Package: flowStats Version: 4.21.0 Command: /home/rapidbuild/bbs-3.22-bioc-rapid/R/bin/R CMD check --install=check:flowStats.install-out.txt --library=/home/rapidbuild/bbs-3.22-bioc-rapid/R/site-library --timings flowStats_4.21.0.tar.gz StartedAt: 2025-06-17 20:41:13 -0400 (Tue, 17 Jun 2025) EndedAt: 2025-06-17 20:44:44 -0400 (Tue, 17 Jun 2025) EllapsedTime: 210.1 seconds RetCode: 0 Status: WARNINGS CheckDir: flowStats.Rcheck Warnings: 4