Package: flowStats Version: 4.21.0 Command: /home/rapidbuild/bbs-3.22-bioc-rapid/R/bin/R CMD build --keep-empty-dirs --no-resave-data flowStats StartedAt: 2025-07-21 06:49:17 -0400 (Mon, 21 Jul 2025) EndedAt: 2025-07-21 06:49:45 -0400 (Mon, 21 Jul 2025) EllapsedTime: 28.0 seconds RetCode: 1 Status: ERROR PackageFile: None PackageFileSize: NA