Package: flowClust Version: 3.47.0 Command: /home/rapidbuild/bbs-3.22-bioc-rapid/R/bin/R CMD INSTALL flowClust StartedAt: 2025-07-23 06:11:01 -0400 (Wed, 23 Jul 2025) EndedAt: 2025-07-23 06:12:19 -0400 (Wed, 23 Jul 2025) EllapsedTime: 78.2 seconds RetCode: 0 Status: OK