Package: flowClust Version: 3.47.0 Command: /home/rapidbuild/bbs-3.22-bioc-rapid/R/bin/R CMD check --install=check:flowClust.install-out.txt --library=/home/rapidbuild/bbs-3.22-bioc-rapid/R/site-library --timings flowClust_3.47.0.tar.gz StartedAt: 2025-07-23 08:12:35 -0400 (Wed, 23 Jul 2025) EndedAt: 2025-07-23 08:14:51 -0400 (Wed, 23 Jul 2025) EllapsedTime: 135.7 seconds RetCode: 0 Status: WARNINGS CheckDir: flowClust.Rcheck Warnings: 1