Package: fishpond Version: 2.15.0 Command: /home/rapidbuild/bbs-3.22-bioc-rapid/R/bin/R CMD check --install=check:fishpond.install-out.txt --library=/home/rapidbuild/bbs-3.22-bioc-rapid/R/site-library --timings fishpond_2.15.0.tar.gz StartedAt: 2025-07-21 08:17:08 -0400 (Mon, 21 Jul 2025) EndedAt: 2025-07-21 08:23:29 -0400 (Mon, 21 Jul 2025) EllapsedTime: 380.7 seconds RetCode: 0 Status: OK CheckDir: fishpond.Rcheck Warnings: 0