Package: fgsea Version: 1.35.6 Command: /home/rapidbuild/bbs-3.22-bioc-rapid/R/bin/R CMD INSTALL fgsea StartedAt: 2025-07-25 06:18:37 -0400 (Fri, 25 Jul 2025) EndedAt: 2025-07-25 06:19:09 -0400 (Fri, 25 Jul 2025) EllapsedTime: 31.4 seconds RetCode: 0 Status: OK