Package: fgsea Version: 1.35.6 Maintainer: Alexey Sergushichev MaintainerEmail: alsergbox at gmail.com git_url: https://git.bioconductor.org/packages/fgsea git_branch: devel git_last_commit: d6f1670 git_last_commit_date: 2025-07-07 16:59:21 -0400 (Mon, 07 Jul 2025)