Package: eds Version: 1.11.0 Command: /home/rapidbuild/bbs-3.22-bioc-rapid/R/bin/R CMD INSTALL eds StartedAt: 2025-10-23 06:08:33 -0400 (Thu, 23 Oct 2025) EndedAt: 2025-10-23 06:08:42 -0400 (Thu, 23 Oct 2025) EllapsedTime: 9.2 seconds RetCode: 0 Status: OK