Package: dir.expiry Version: 1.17.0 Command: /home/rapidbuild/bbs-3.22-bioc-rapid/R/bin/R CMD INSTALL dir.expiry StartedAt: 2025-10-11 06:07:01 -0400 (Sat, 11 Oct 2025) EndedAt: 2025-10-11 06:07:03 -0400 (Sat, 11 Oct 2025) EllapsedTime: 2.0 seconds RetCode: 0 Status: OK