Package: cytolib Version: 2.21.0 Command: /home/rapidbuild/bbs-3.22-bioc-rapid/R/bin/R CMD INSTALL cytolib StartedAt: 2025-07-23 06:08:18 -0400 (Wed, 23 Jul 2025) EndedAt: 2025-07-23 06:10:20 -0400 (Wed, 23 Jul 2025) EllapsedTime: 121.4 seconds RetCode: 0 Status: OK