Package: cigarillo Version: 1.1.0 Command: /home/rapidbuild/bbs-3.23-bioc-rapid/R/bin/R CMD INSTALL cigarillo StartedAt: 2025-11-24 06:13:46 -0500 (Mon, 24 Nov 2025) EndedAt: 2025-11-24 06:13:54 -0500 (Mon, 24 Nov 2025) EllapsedTime: 8.6 seconds RetCode: 0 Status: OK