Package: cigarillo Version: 1.1.0 Command: /home/rapidbuild/bbs-3.23-bioc-rapid/R/bin/R CMD check --install=check:cigarillo.install-out.txt --library=/home/rapidbuild/bbs-3.23-bioc-rapid/R/site-library --timings cigarillo_1.1.0.tar.gz StartedAt: 2025-11-24 08:06:22 -0500 (Mon, 24 Nov 2025) EndedAt: 2025-11-24 08:07:45 -0500 (Mon, 24 Nov 2025) EllapsedTime: 83.3 seconds RetCode: 0 Status: OK CheckDir: cigarillo.Rcheck Warnings: 0