Package: chihaya Version: 1.9.0 Command: /home/rapidbuild/bbs-3.22-bioc-rapid/R/bin/R CMD INSTALL chihaya StartedAt: 2025-07-03 06:16:30 -0400 (Thu, 03 Jul 2025) EndedAt: 2025-07-03 06:17:00 -0400 (Thu, 03 Jul 2025) EllapsedTime: 29.4 seconds RetCode: 0 Status: OK