Package: bumphunter Version: 1.51.0 Command: /home/rapidbuild/bbs-3.22-bioc-rapid/R/bin/R CMD check --install=check:bumphunter.install-out.txt --library=/home/rapidbuild/bbs-3.22-bioc-rapid/R/site-library --timings bumphunter_1.51.0.tar.gz StartedAt: 2025-07-08 08:00:13 -0400 (Tue, 08 Jul 2025) EndedAt: 2025-07-08 08:05:53 -0400 (Tue, 08 Jul 2025) EllapsedTime: 339.6 seconds RetCode: 0 Status: WARNINGS CheckDir: bumphunter.Rcheck Warnings: 1