Package: bluster Version: 1.19.0 Command: /home/rapidbuild/bbs-3.22-bioc-rapid/R/bin/R CMD INSTALL bluster StartedAt: 2025-07-23 06:19:34 -0400 (Wed, 23 Jul 2025) EndedAt: 2025-07-23 06:19:51 -0400 (Wed, 23 Jul 2025) EllapsedTime: 16.4 seconds RetCode: 0 Status: OK