Package: bluster Version: 1.19.0 Command: /home/rapidbuild/bbs-3.22-bioc-rapid/R/bin/R CMD build --keep-empty-dirs --no-resave-data bluster StartedAt: 2025-07-23 06:33:23 -0400 (Wed, 23 Jul 2025) EndedAt: 2025-07-23 06:34:45 -0400 (Wed, 23 Jul 2025) EllapsedTime: 82.2 seconds RetCode: 0 Status: OK PackageFile: bluster_1.19.0.tar.gz PackageFileSize: 3.084 MiB