Package: biovizBase Version: 1.57.1 Command: /home/rapidbuild/bbs-3.22-bioc-rapid/R/bin/R CMD INSTALL biovizBase StartedAt: 2025-07-21 06:25:52 -0400 (Mon, 21 Jul 2025) EndedAt: 2025-07-21 06:26:32 -0400 (Mon, 21 Jul 2025) EllapsedTime: 39.9 seconds RetCode: 0 Status: OK