Package: biovizBase Version: 1.57.1 Command: /home/rapidbuild/bbs-3.22-bioc-rapid/R/bin/R CMD check --install=check:biovizBase.install-out.txt --library=/home/rapidbuild/bbs-3.22-bioc-rapid/R/site-library --timings biovizBase_1.57.1.tar.gz StartedAt: 2025-07-22 07:50:40 -0400 (Tue, 22 Jul 2025) EndedAt: 2025-07-22 07:55:35 -0400 (Tue, 22 Jul 2025) EllapsedTime: 294.6 seconds RetCode: 0 Status: WARNINGS CheckDir: biovizBase.Rcheck Warnings: 2