Package: biomaRt Version: 2.65.0 Command: /home/rapidbuild/bbs-3.22-bioc-rapid/R/bin/R CMD INSTALL biomaRt StartedAt: 2025-07-03 06:19:55 -0400 (Thu, 03 Jul 2025) EndedAt: 2025-07-03 06:20:07 -0400 (Thu, 03 Jul 2025) EllapsedTime: 12.4 seconds RetCode: 0 Status: OK