Package: biocmake Version: 1.1.3 Command: /home/rapidbuild/bbs-3.22-bioc-rapid/R/bin/R CMD INSTALL biocmake StartedAt: 2025-07-22 06:09:41 -0400 (Tue, 22 Jul 2025) EndedAt: 2025-07-22 06:09:43 -0400 (Tue, 22 Jul 2025) EllapsedTime: 2.2 seconds RetCode: 0 Status: OK