Package: biocmake Version: 1.1.3 Command: /home/rapidbuild/bbs-3.22-bioc-rapid/R/bin/R CMD check --install=check:biocmake.install-out.txt --library=/home/rapidbuild/bbs-3.22-bioc-rapid/R/site-library --timings biocmake_1.1.3.tar.gz StartedAt: 2025-07-23 07:44:25 -0400 (Wed, 23 Jul 2025) EndedAt: 2025-07-23 07:44:40 -0400 (Wed, 23 Jul 2025) EllapsedTime: 15.3 seconds RetCode: 0 Status: OK CheckDir: biocmake.Rcheck Warnings: 0