Package: beachmat Version: 2.25.5 Command: /home/rapidbuild/bbs-3.22-bioc-rapid/R/bin/R CMD check --install=check:beachmat.install-out.txt --library=/home/rapidbuild/bbs-3.22-bioc-rapid/R/site-library --timings beachmat_2.25.5.tar.gz StartedAt: 2025-10-09 07:46:51 -0400 (Thu, 09 Oct 2025) EndedAt: 2025-10-09 07:50:55 -0400 (Thu, 09 Oct 2025) EllapsedTime: 244.0 seconds RetCode: 0 Status: OK CheckDir: beachmat.Rcheck Warnings: 0