Package: beachmat.hdf5 Version: 1.7.1 Command: /home/rapidbuild/bbs-3.22-bioc-rapid/R/bin/R CMD build --keep-empty-dirs --no-resave-data beachmat.hdf5 StartedAt: 2025-07-25 06:32:46 -0400 (Fri, 25 Jul 2025) EndedAt: 2025-07-25 06:33:49 -0400 (Fri, 25 Jul 2025) EllapsedTime: 63.2 seconds RetCode: 0 Status: OK PackageFile: beachmat.hdf5_1.7.1.tar.gz PackageFileSize: 297.3 KiB