Package: batchelor Version: 1.25.0 Command: /home/rapidbuild/bbs-3.22-bioc-rapid/R/bin/R CMD check --install=check:batchelor.install-out.txt --library=/home/rapidbuild/bbs-3.22-bioc-rapid/R/site-library --timings batchelor_1.25.0.tar.gz StartedAt: 2025-07-22 07:44:01 -0400 (Tue, 22 Jul 2025) EndedAt: 2025-07-22 07:50:40 -0400 (Tue, 22 Jul 2025) EllapsedTime: 398.8 seconds RetCode: 0 Status: OK CheckDir: batchelor.Rcheck Warnings: 0