Package: batchelor Version: 1.25.0 Command: /home/rapidbuild/bbs-3.22-bioc-rapid/R/bin/R CMD build --keep-empty-dirs --no-resave-data batchelor StartedAt: 2025-07-21 06:31:35 -0400 (Mon, 21 Jul 2025) EndedAt: 2025-07-21 06:34:16 -0400 (Mon, 21 Jul 2025) EllapsedTime: 161.3 seconds RetCode: 0 Status: OK PackageFile: batchelor_1.25.0.tar.gz PackageFileSize: 1.95 MiB