Package: assorthead Version: 1.3.4 Command: /home/rapidbuild/bbs-3.22-bioc-rapid/R/bin/R CMD check --install=check:assorthead.install-out.txt --library=/home/rapidbuild/bbs-3.22-bioc-rapid/R/site-library --timings assorthead_1.3.4.tar.gz StartedAt: 2025-07-01 08:06:26 -0400 (Tue, 01 Jul 2025) EndedAt: 2025-07-01 08:06:36 -0400 (Tue, 01 Jul 2025) EllapsedTime: 10.0 seconds RetCode: 0 Status: OK CheckDir: assorthead.Rcheck Warnings: 0