Package: aroma.light Version: 3.39.0 Command: /home/rapidbuild/bbs-3.22-bioc-rapid/R/bin/R CMD INSTALL aroma.light StartedAt: 2025-07-25 06:06:43 -0400 (Fri, 25 Jul 2025) EndedAt: 2025-07-25 06:06:46 -0400 (Fri, 25 Jul 2025) EllapsedTime: 3.0 seconds RetCode: 0 Status: OK