Package: annotate Version: 1.87.0 Command: /home/rapidbuild/bbs-3.22-bioc-rapid/R/bin/R CMD check --install=check:annotate.install-out.txt --library=/home/rapidbuild/bbs-3.22-bioc-rapid/R/site-library --timings annotate_1.87.0.tar.gz StartedAt: 2025-06-28 13:41:06 -0400 (Sat, 28 Jun 2025) EndedAt: 2025-06-28 13:44:21 -0400 (Sat, 28 Jun 2025) EllapsedTime: 194.9 seconds RetCode: 0 Status: OK CheckDir: annotate.Rcheck Warnings: 0