Package: alabaster.se Version: 1.9.0 Command: /home/rapidbuild/bbs-3.22-bioc-rapid/R/bin/R CMD INSTALL alabaster.se StartedAt: 2025-06-28 12:16:24 -0400 (Sat, 28 Jun 2025) EndedAt: 2025-06-28 12:16:47 -0400 (Sat, 28 Jun 2025) EllapsedTime: 22.5 seconds RetCode: 0 Status: OK