Package: alabaster.se Version: 1.9.0 Command: /home/rapidbuild/bbs-3.22-bioc-rapid/R/bin/R CMD check --install=check:alabaster.se.install-out.txt --library=/home/rapidbuild/bbs-3.22-bioc-rapid/R/site-library --timings alabaster.se_1.9.0.tar.gz StartedAt: 2025-07-02 07:44:15 -0400 (Wed, 02 Jul 2025) EndedAt: 2025-07-02 07:47:05 -0400 (Wed, 02 Jul 2025) EllapsedTime: 170.2 seconds RetCode: 0 Status: OK CheckDir: alabaster.se.Rcheck Warnings: 0