Package: alabaster.schemas Version: 1.9.0 Command: /home/rapidbuild/bbs-3.22-bioc-rapid/R/bin/R CMD check --install=check:alabaster.schemas.install-out.txt --library=/home/rapidbuild/bbs-3.22-bioc-rapid/R/site-library --timings alabaster.schemas_1.9.0.tar.gz StartedAt: 2025-07-15 07:43:04 -0400 (Tue, 15 Jul 2025) EndedAt: 2025-07-15 07:43:11 -0400 (Tue, 15 Jul 2025) EllapsedTime: 7.3 seconds RetCode: 0 Status: OK CheckDir: alabaster.schemas.Rcheck Warnings: 0