Package: alabaster.schemas Version: 1.9.0 Command: /home/rapidbuild/bbs-3.22-bioc-rapid/R/bin/R CMD build --keep-empty-dirs --no-resave-data alabaster.schemas StartedAt: 2025-07-15 06:29:50 -0400 (Tue, 15 Jul 2025) EndedAt: 2025-07-15 06:29:53 -0400 (Tue, 15 Jul 2025) EllapsedTime: 3.0 seconds RetCode: 0 Status: OK PackageFile: alabaster.schemas_1.9.0.tar.gz PackageFileSize: 239.9 KiB