Package: alabaster.sce Version: 1.9.0 Command: /home/rapidbuild/bbs-3.22-bioc-rapid/R/bin/R CMD INSTALL alabaster.sce StartedAt: 2025-07-14 06:17:15 -0400 (Mon, 14 Jul 2025) EndedAt: 2025-07-14 06:17:42 -0400 (Mon, 14 Jul 2025) EllapsedTime: 26.9 seconds RetCode: 0 Status: OK