Package: alabaster.sce Version: 1.9.0 Command: /home/rapidbuild/bbs-3.22-bioc-rapid/R/bin/R CMD check --install=check:alabaster.sce.install-out.txt --library=/home/rapidbuild/bbs-3.22-bioc-rapid/R/site-library --timings alabaster.sce_1.9.0.tar.gz StartedAt: 2025-07-14 07:49:55 -0400 (Mon, 14 Jul 2025) EndedAt: 2025-07-14 07:52:57 -0400 (Mon, 14 Jul 2025) EllapsedTime: 181.9 seconds RetCode: 0 Status: OK CheckDir: alabaster.sce.Rcheck Warnings: 0