Package: alabaster.sce Version: 1.9.0 Command: /home/rapidbuild/bbs-3.22-bioc-rapid/R/bin/R CMD build --keep-empty-dirs --no-resave-data alabaster.sce StartedAt: 2025-07-14 06:29:57 -0400 (Mon, 14 Jul 2025) EndedAt: 2025-07-14 06:30:34 -0400 (Mon, 14 Jul 2025) EllapsedTime: 37.2 seconds RetCode: 0 Status: OK PackageFile: alabaster.sce_1.9.0.tar.gz PackageFileSize: 220.4 KiB