Package: alabaster.base Version: 1.11.1 Command: /home/rapidbuild/bbs-3.23-bioc-rapid/R/bin/R CMD INSTALL alabaster.base StartedAt: 2025-11-17 06:12:28 -0500 (Mon, 17 Nov 2025) EndedAt: 2025-11-17 06:13:35 -0500 (Mon, 17 Nov 2025) EllapsedTime: 67.1 seconds RetCode: 0 Status: OK