Package: alabaster.base Version: 1.11.1 Command: /home/rapidbuild/bbs-3.23-bioc-rapid/R/bin/R CMD check --install=check:alabaster.base.install-out.txt --library=/home/rapidbuild/bbs-3.23-bioc-rapid/R/site-library --timings alabaster.base_1.11.1.tar.gz StartedAt: 2025-11-17 07:43:00 -0500 (Mon, 17 Nov 2025) EndedAt: 2025-11-17 07:44:17 -0500 (Mon, 17 Nov 2025) EllapsedTime: 77.6 seconds RetCode: 0 Status: WARNINGS CheckDir: alabaster.base.Rcheck Warnings: 1