Package: alabaster.base Version: 1.11.1 Command: /home/rapidbuild/bbs-3.23-bioc-rapid/R/bin/R CMD build --keep-empty-dirs --no-resave-data alabaster.base StartedAt: 2025-11-17 06:28:27 -0500 (Mon, 17 Nov 2025) EndedAt: 2025-11-17 06:29:41 -0500 (Mon, 17 Nov 2025) EllapsedTime: 74.5 seconds RetCode: 0 Status: OK PackageFile: alabaster.base_1.11.1.tar.gz PackageFileSize: 330.7 KiB