Package: affyio Version: 1.79.0 Command: /home/rapidbuild/bbs-3.22-bioc-rapid/R/bin/R CMD INSTALL affyio StartedAt: 2025-07-22 06:09:43 -0400 (Tue, 22 Jul 2025) EndedAt: 2025-07-22 06:09:51 -0400 (Tue, 22 Jul 2025) EllapsedTime: 7.2 seconds RetCode: 0 Status: OK