Package: affyPLM Version: 1.85.0 Command: /home/rapidbuild/bbs-3.22-bioc-rapid/R/bin/R CMD check --install=check:affyPLM.install-out.txt --library=/home/rapidbuild/bbs-3.22-bioc-rapid/R/site-library --timings affyPLM_1.85.0.tar.gz StartedAt: 2025-07-22 07:37:16 -0400 (Tue, 22 Jul 2025) EndedAt: 2025-07-22 07:40:38 -0400 (Tue, 22 Jul 2025) EllapsedTime: 201.2 seconds RetCode: 0 Status: WARNINGS CheckDir: affyPLM.Rcheck Warnings: 1