Package: affy Version: 1.87.0 Command: /home/rapidbuild/bbs-3.22-bioc-rapid/R/bin/R CMD INSTALL affy StartedAt: 2025-07-22 06:09:51 -0400 (Tue, 22 Jul 2025) EndedAt: 2025-07-22 06:09:57 -0400 (Tue, 22 Jul 2025) EllapsedTime: 6.0 seconds RetCode: 0 Status: OK