Package: affy Version: 1.87.0 Command: /home/rapidbuild/bbs-3.22-bioc-rapid/R/bin/R CMD build --keep-empty-dirs --no-resave-data affy StartedAt: 2025-07-22 06:28:24 -0400 (Tue, 22 Jul 2025) EndedAt: 2025-07-22 06:29:08 -0400 (Tue, 22 Jul 2025) EllapsedTime: 43.9 seconds RetCode: 0 Status: OK PackageFile: affy_1.87.0.tar.gz PackageFileSize: 1.682 MiB