Package: affxparser Version: 1.83.0 Command: /home/rapidbuild/bbs-3.23-bioc-rapid/R/bin/R CMD check --install=check:affxparser.install-out.txt --library=/home/rapidbuild/bbs-3.23-bioc-rapid/R/site-library --timings affxparser_1.83.0.tar.gz StartedAt: 2025-11-21 07:46:10 -0500 (Fri, 21 Nov 2025) EndedAt: 2025-11-21 07:46:41 -0500 (Fri, 21 Nov 2025) EllapsedTime: 31.3 seconds RetCode: 0 Status: WARNINGS CheckDir: affxparser.Rcheck Warnings: 2