Package: XVector Version: 0.49.0 Command: /home/rapidbuild/bbs-3.22-bioc-rapid/R/bin/R CMD build --keep-empty-dirs --no-resave-data XVector StartedAt: 2025-07-17 07:40:26 -0400 (Thu, 17 Jul 2025) EndedAt: 2025-07-17 07:40:27 -0400 (Thu, 17 Jul 2025) EllapsedTime: 1.0 seconds RetCode: 0 Status: OK PackageFile: XVector_0.49.0.tar.gz PackageFileSize: 66.31 KiB