Package: Wrench Version: 1.27.0 Maintainer: Hector Corrada Bravo MaintainerEmail: hcorrada at gmail.com git_url: https://git.bioconductor.org/packages/Wrench git_branch: devel git_last_commit: 4a38cd1 git_last_commit_date: 2025-04-15 11:38:42 -0400 (Tue, 15 Apr 2025)