Package: TFBSTools Version: 1.47.0 Command: /home/rapidbuild/bbs-3.22-bioc-rapid/R/bin/R CMD INSTALL TFBSTools StartedAt: 2025-07-13 06:23:29 -0400 (Sun, 13 Jul 2025) EndedAt: 2025-07-13 06:24:07 -0400 (Sun, 13 Jul 2025) EllapsedTime: 37.6 seconds RetCode: 0 Status: OK