Package: TFBSTools Version: 1.47.0 Command: /home/rapidbuild/bbs-3.22-bioc-rapid/R/bin/R CMD build --keep-empty-dirs --no-resave-data TFBSTools StartedAt: 2025-07-13 07:34:08 -0400 (Sun, 13 Jul 2025) EndedAt: 2025-07-13 07:35:09 -0400 (Sun, 13 Jul 2025) EllapsedTime: 60.9 seconds RetCode: 0 Status: OK PackageFile: TFBSTools_1.47.0.tar.gz PackageFileSize: 582.7 KiB