Package: TENxIO Version: 1.11.5 Command: /home/rapidbuild/bbs-3.22-bioc-rapid/R/bin/R CMD INSTALL TENxIO StartedAt: 2025-07-15 06:21:45 -0400 (Tue, 15 Jul 2025) EndedAt: 2025-07-15 06:22:08 -0400 (Tue, 15 Jul 2025) EllapsedTime: 23.7 seconds RetCode: 0 Status: OK