Package: TENxIO Version: 1.11.5 Command: /home/rapidbuild/bbs-3.22-bioc-rapid/R/bin/R CMD check --install=check:TENxIO.install-out.txt --library=/home/rapidbuild/bbs-3.22-bioc-rapid/R/site-library --timings TENxIO_1.11.5.tar.gz StartedAt: 2025-07-18 09:25:20 -0400 (Fri, 18 Jul 2025) EndedAt: 2025-07-18 09:27:58 -0400 (Fri, 18 Jul 2025) EllapsedTime: 158.0 seconds RetCode: 0 Status: OK CheckDir: TENxIO.Rcheck Warnings: 0