Package: SummarizedExperiment Version: 1.39.1 Command: /home/rapidbuild/bbs-3.22-bioc-rapid/R/bin/R CMD check --install=check:SummarizedExperiment.install-out.txt --library=/home/rapidbuild/bbs-3.22-bioc-rapid/R/site-library --timings SummarizedExperiment_1.39.1.tar.gz StartedAt: 2025-07-19 09:24:49 -0400 (Sat, 19 Jul 2025) EndedAt: 2025-07-19 09:27:41 -0400 (Sat, 19 Jul 2025) EllapsedTime: 171.7 seconds RetCode: 0 Status: OK CheckDir: SummarizedExperiment.Rcheck Warnings: 0